BEGIN:VCALENDAR
PRODID:-//flaimo.com//iCal Class MIMEDIR//EN
VERSION:2.0
METHOD:REQUEST
BEGIN:VEVENT
ORGANIZER;CN=Fabrizio Cataldi:MAILTO:fabrizio.cataldi@comunicazioneitaliana.it
DTSTART:20240919T070000Z
DTEND:20240922T160000Z
LOCATION;LANGUAGE=it;ENCODING=QUOTED-PRINTABLE:19-22 settembre 2024
TRANSP:OPAQUE
SEQUENCE:0
UID:d59e3334935a1c6b27e4429661513954
DTSTAMP:20260423T013300Z
CATEGORIES;LANGUAGE=it;ENCODING=QUOTED-PRINTABLE:Meeting
DESCRIPTION;LANGUAGE=it;ENCODING=QUOTED-PRINTABLE:Il Forum Innovazione Sostenibile è una giornata ricca di appuntamenti dove top manager, istituzioni e professionisti della comunicazione e CSR si incontrano per confrontarsi e capire insieme come promuovere uno sviluppo sostenibile.
SUMMARY;LANGUAGE=it;ENCODING=QUOTED-PRINTABLE:FORUM INNOVAZIONE SOSTENIBILE
PRIORITY:5
CLASS:CONFIDENTIAL
URL:http://www.forumsostenibilita.it
STATUS:CONFIRMED
END:VEVENT
END:VCALENDAR
